BEGIN:VCALENDAR
VERSION:2.0
PRODID:-//ChamberMaster//Event Calendar 2.0//EN
METHOD:PUBLISH
X-PUBLISHED-TTL:P3D
REFRESH-INTERVAL:P3D
CALSCALE:GREGORIAN
BEGIN:VEVENT
DTSTART:20180926T213000Z
DTEND:20180926T233000Z
X-MICROSOFT-CDO-ALLDAYEVENT:FALSE
SUMMARY:SCORE Simple Steps Workshop
DESCRIPTION:The concepts involved with assessing a business idea\n\n  Marketing your product or service\,\n\n  Understanding business financials and how they work\n\n  How to fund and finance your business\n\n\n\nSession 1: Start-up Basics (Free)\n\nThis introductory workshop focuses on the basics of testing your business idea and identifying the key factors\n\nthat influence start-up success. Start-up Basics provides you with an overview of the skills and tools you need\n\nwhen deciding to start a business. In this session\, you learn about: the advantages and disadvantages of owning\n\na business\, the most profitable form for your business\, and the fundamentals of formation\, organization\,\n\nmarketing\, cash flow and funding sources.
X-ALT-DESC;FMTTYPE=text/html:<br />\n&bull\; The concepts involved with assessing a business idea<br />\n&bull\; Marketing your product or service\,<br />\n&bull\; Understanding business financials and how they work<br />\n&bull\; How to fund and finance your business<br />\n<br />\n<strong>Session 1: Start-up Basics (Free)</strong><br />\nThis introductory workshop focuses on the basics of testing your business idea and identifying the key factors<br />\nthat influence start-up success. Start-up Basics provides you with an overview of the skills and tools you need<br />\nwhen deciding to start a business. In this session\, you learn about: the advantages and disadvantages of owning<br />\na business\, the most profitable form for your business\, and the fundamentals of formation\, organization\,<br />\nmarketing\, cash flow and funding sources.
LOCATION:Acton Public Libary 60 Old Boston Post Road Old Saybrook 860-395-3184
UID:e.3260.1542
SEQUENCE:3
DTSTAMP:20260420T234901Z
URL:http://shorelinechamberct.chambermaster.com/events/details/score-simple-steps-workshop-1542
END:VEVENT

END:VCALENDAR
