BEGIN:VCALENDAR
VERSION:2.0
PRODID:-//ChamberMaster//Event Calendar 2.0//EN
METHOD:PUBLISH
X-PUBLISHED-TTL:P3D
REFRESH-INTERVAL:P3D
CALSCALE:GREGORIAN
BEGIN:VEVENT
DTSTART:20180517T120000Z
DTEND:20180517T133000Z
X-MICROSOFT-CDO-ALLDAYEVENT:FALSE
SUMMARY:NET90 - May 2018
DESCRIPTION:Join us for our May NET90 event. \n\n\n\nPlease be aware that this event has an attendee limit. If you register and then are not able to attend\, please let us know so we can fill your spot with another guest who may be on the waiting list.
X-ALT-DESC;FMTTYPE=text/html:<span style="font-size:20px\;">Join us for our May NET90&nbsp\;event.&nbsp\;<br />\n<br />\n<em><span style="font-size:18px\;">Please be aware that this event has an attendee limit. If you register and then are not able to attend\, please let us know so we can fill your spot with another guest who may be on the waiting list.&nbsp\;</span></em></span><br />\n&nbsp\;
LOCATION:Guilford Mooring
UID:e.3260.433
SEQUENCE:3
DTSTAMP:20260419T141749Z
URL:http://shorelinechamberct.chambermaster.com/events/details/net90-may-2018-433
END:VEVENT

END:VCALENDAR
