BEGIN:VCALENDAR
VERSION:2.0
PRODID:-//ChamberMaster//Event Calendar 2.0//EN
METHOD:PUBLISH
X-PUBLISHED-TTL:P3D
REFRESH-INTERVAL:P3D
CALSCALE:GREGORIAN
BEGIN:VEVENT
DTSTART:20180509T223000Z
DTEND:20180509T233000Z
X-MICROSOFT-CDO-ALLDAYEVENT:FALSE
SUMMARY:Make our Woods Work
DESCRIPTION:Learn how to plan for a healthy woodland environment that is good for both residents and native neighbors (birds\, animals\, plants and insects) Make our Woods Work is sponsored jointly by the Guilford Free Library. FREE
X-ALT-DESC;FMTTYPE=text/html:Learn how to plan for a healthy woodland environment that is good for both residents and native neighbors (birds\, animals\, plants and insects) Make our Woods Work&nbsp\;is sponsored jointly by the Guilford&nbsp\;Free Library. FREE
LOCATION:Guilford Free Library 67 Park Street Guilford\, CT
UID:e.3260.417
SEQUENCE:3
DTSTAMP:20260421T152241Z
URL:http://shorelinechamberct.chambermaster.com/events/details/make-our-woods-work-417
END:VEVENT

END:VCALENDAR
