BEGIN:VCALENDAR
VERSION:2.0
PRODID:-//ChamberMaster//Event Calendar 2.0//EN
METHOD:PUBLISH
X-PUBLISHED-TTL:P3D
REFRESH-INTERVAL:P3D
CALSCALE:GREGORIAN
BEGIN:VEVENT
DTSTART;VALUE=DATE:20180124
DTEND;VALUE=DATE:20180125
TRANSP:TRANSPARENT
X-MICROSOFT-CDO-ALLDAYEVENT:TRUE
SUMMARY:Identity Theft Issues - 2pm
DESCRIPTION:ARTIS SENIOR LIVING\n\nHave you gone to Equifax.com to see if you have been breached?\n\nShort discussion on how to see if you were affected in the Equifax breach and what to do if you have.\n\n\n\nFREE event - refreshments will be served -\n\nRSVP necessary  Call Roxanne 203-533-1538\n\nHave you ever .... \n\n- shared yours or your child's locaton on social media?\n\n-entered personal informaton online?    \n\n-been mistakenly pursued by a collecton agency?\n\n-worried about becoming an identity theft victim?\n\n-used public Wi-Fi?\n\n-lost your wallet?\n\nIf you answered yes to any of the above\, this discussion is for you!
X-ALT-DESC;FMTTYPE=text/html:<strong>ARTIS SENIOR LIVING</strong><br />\nHave you gone to Equifax.com to see if you have been breached?<br />\nShort discussion on how to see if you were affected in the Equifax breach and what to do if you have.<br />\n<br />\n<strong>FREE</strong> event - refreshments will be served -<br />\n<span style='font-size:14px\;'><strong>RSVP necessary  Call Roxanne 203-533-1538</strong></span><br />\nHave you ever .... <br />\n- shared yours or your child's locaton on social media?<br />\n-entered personal informaton online?    <br />\n-been mistakenly pursued by a collecton agency?<br />\n-worried about becoming an identity theft victim?<br />\n-used public Wi-Fi?<br />\n-lost your wallet?<br />\nIf you answered yes to any of the above\, this discussion is for you!<br />\n<br />\n 
LOCATION:Artis Senior Living
UID:e.3260.111
SEQUENCE:3
DTSTAMP:20260424T061104Z
URL:http://shorelinechamberct.chambermaster.com/events/details/identity-theft-issues-2pm-01-24-2018-111
END:VEVENT

END:VCALENDAR
