BEGIN:VCALENDAR
VERSION:2.0
PRODID:-//ChamberMaster//Event Calendar 2.0//EN
METHOD:PUBLISH
X-PUBLISHED-TTL:P3D
REFRESH-INTERVAL:P3D
CALSCALE:GREGORIAN
BEGIN:VEVENT
DTSTART:20180909T160000Z
DTEND:20180909T200000Z
X-MICROSOFT-CDO-ALLDAYEVENT:FALSE
SUMMARY:Cut-a-thon
DESCRIPTION:Jessicas Beauty Bar will be hosting a cut-a-thon in Sunday September 9 from 12pm-4pm at the salon\, located at 117 South Main Street in Branford. All proceeds be benefiting the Wounded Warrior Project. Come get a free haircut and a "swag bag" with a $20 donation. There will also be raffle tickets available for purchase to win gifts from numerous local businesses. We invite you to come and enjoy food\, beverages\, and get a cut all for a good cause!
X-ALT-DESC;FMTTYPE=text/html:Jessicas Beauty Bar will be hosting a cut-a-thon in Sunday September 9 from 12pm-4pm at the salon\, located at 117 South Main Street in Branford. All proceeds be benefiting the Wounded Warrior Project. Come get a free haircut and a &ldquo\;swag bag&rdquo\; with a $20 donation. There will also be raffle tickets available for purchase to win gifts from numerous local businesses. We invite you to come and enjoy food\, beverages\, and get a cut all for a good cause!
LOCATION:Jessica's Beauty Bar 117 South Main Street Branford CT 06405
UID:e.3260.1984
SEQUENCE:3
DTSTAMP:20260420T234901Z
URL:http://shorelinechamberct.chambermaster.com/events/details/cut-a-thon-1984
END:VEVENT

END:VCALENDAR
