BEGIN:VCALENDAR
VERSION:2.0
PRODID:-//ChamberMaster//Event Calendar 2.0//EN
METHOD:PUBLISH
X-PUBLISHED-TTL:P3D
REFRESH-INTERVAL:P3D
CALSCALE:GREGORIAN
BEGIN:VEVENT
DTSTART:20240308T230000Z
DTEND:20240309T010000Z
X-MICROSOFT-CDO-ALLDAYEVENT:FALSE
SUMMARY:Crystal Shadow Box Making Workshop
DESCRIPTION:A night out with Shaunda\, of Love Creations by Shaunda (recently picked up by Uncommon Goods!) learning the aspects of gemstones while personalizing and creating every detail of your own crystal shadow box!\n\nWhat's Included:\n\n-Rose Quartz\n\n-Handmade decorative paper\n\n-Paint\n\n-Artistic Quality Card Stock\n\n-High Quality Shadow Box\n\n-Wine and Snacks throughout duration of event\n\n-A Thank You gift for all who attend!\n\n6-8pm\, Friday March 8th!
X-ALT-DESC;FMTTYPE=text/html:<p style="text-align:center"><span style="color:rgb(111\, 114\, 135)\; font-family:roboto\,arial\; font-size:12pt">A night out with Shaunda\, of Love Creations by Shaunda (recently picked up by Uncommon Goods!) learning the aspects of gemstones while personalizing and creating every detail of your own crystal shadow box!</span></p>\n\n<p style="text-align:center"><span style="color:rgb(111\, 114\, 135)\; font-family:roboto\,arial\; font-size:12pt">What&#39\;s Included:</span></p>\n\n<p style="text-align:center"><span style="color:rgb(111\, 114\, 135)\; font-family:roboto\,arial\; font-size:12pt">-Rose Quartz</span></p>\n\n<p style="text-align:center"><span style="color:rgb(111\, 114\, 135)\; font-family:roboto\,arial\; font-size:12pt">-Handmade decorative paper</span></p>\n\n<p style="text-align:center"><span style="color:rgb(111\, 114\, 135)\; font-family:roboto\,arial\; font-size:12pt">-Paint</span></p>\n\n<p style="text-align:center"><span style="color:rgb(111\, 114\, 135)\; font-family:roboto\,arial\; font-size:12pt">-Artistic Quality Card Stock</span></p>\n\n<p style="text-align:center"><span style="color:rgb(111\, 114\, 135)\; font-family:roboto\,arial\; font-size:12pt">-High Quality Shadow Box</span></p>\n\n<p style="text-align:center"><span style="color:rgb(111\, 114\, 135)\; font-family:roboto\,arial\; font-size:12pt">-Wine and Snacks throughout duration of event</span></p>\n\n<p style="text-align:center"><span style="color:rgb(111\, 114\, 135)\; font-family:roboto\,arial\; font-size:12pt">-A Thank You gift for all who attend!</span></p>\n\n<p style="text-align:center"><span style="color:rgb(111\, 114\, 135)\; font-family:roboto\,arial\; font-size:12pt">6-8pm\, Friday March 8th!</span></p>\n
LOCATION:
UID:e.3260.9445
SEQUENCE:3
DTSTAMP:20260420T215234Z
URL:http://shorelinechamberct.chambermaster.com/events/details/crystal-shadow-box-making-workshop-9445
END:VEVENT

END:VCALENDAR
