BEGIN:VCALENDAR
VERSION:2.0
PRODID:-//ChamberMaster//Event Calendar 2.0//EN
METHOD:PUBLISH
X-PUBLISHED-TTL:P3D
REFRESH-INTERVAL:P3D
CALSCALE:GREGORIAN
BEGIN:VEVENT
DTSTART:20180929T223000Z
DTEND:20180930T003000Z
X-MICROSOFT-CDO-ALLDAYEVENT:FALSE
SUMMARY:Artists' Awards Reception
DESCRIPTION:Guilford Performing Arts Festival will introduce the two winners of the inaugural Artists' Awards for the creation of new works\, one in Drama and one in Music. The Awards Reception will offer light bites and wine\, provide some entertainment and give an update on the 2019 festival.
X-ALT-DESC;FMTTYPE=text/html:Guilford Performing Arts Festival will introduce the two winners of the inaugural Artists&#39\; Awards for the creation of new works\, one in Drama and one in Music. The Awards Reception will offer light bites and wine\, provide some entertainment and give an update on the 2019 festival.
LOCATION:316 Little Meadow Road\, Guilford\, CT 06437
UID:e.3260.2000
SEQUENCE:3
DTSTAMP:20260421T204825Z
URL:http://shorelinechamberct.chambermaster.com/events/details/artists-awards-reception-2000
END:VEVENT

END:VCALENDAR
